BEGIN:VCALENDAR
VERSION:2.0
PRODID:-//Kellogg Arena - ECPv6.15.18//NONSGML v1.0//EN
CALSCALE:GREGORIAN
METHOD:PUBLISH
X-WR-CALNAME:Kellogg Arena
X-ORIGINAL-URL:https://kelloggarena.com
X-WR-CALDESC:Events for Kellogg Arena
REFRESH-INTERVAL;VALUE=DURATION:PT1H
X-Robots-Tag:noindex
X-PUBLISHED-TTL:PT1H
BEGIN:VTIMEZONE
TZID:America/New_York
BEGIN:DAYLIGHT
TZOFFSETFROM:-0500
TZOFFSETTO:-0400
TZNAME:EDT
DTSTART:20180311T070000
END:DAYLIGHT
BEGIN:STANDARD
TZOFFSETFROM:-0400
TZOFFSETTO:-0500
TZNAME:EST
DTSTART:20181104T060000
END:STANDARD
BEGIN:DAYLIGHT
TZOFFSETFROM:-0500
TZOFFSETTO:-0400
TZNAME:EDT
DTSTART:20190310T070000
END:DAYLIGHT
BEGIN:STANDARD
TZOFFSETFROM:-0400
TZOFFSETTO:-0500
TZNAME:EST
DTSTART:20191103T060000
END:STANDARD
BEGIN:DAYLIGHT
TZOFFSETFROM:-0500
TZOFFSETTO:-0400
TZNAME:EDT
DTSTART:20200308T070000
END:DAYLIGHT
BEGIN:STANDARD
TZOFFSETFROM:-0400
TZOFFSETTO:-0500
TZNAME:EST
DTSTART:20201101T060000
END:STANDARD
BEGIN:DAYLIGHT
TZOFFSETFROM:-0500
TZOFFSETTO:-0400
TZNAME:EDT
DTSTART:20210314T070000
END:DAYLIGHT
BEGIN:STANDARD
TZOFFSETFROM:-0400
TZOFFSETTO:-0500
TZNAME:EST
DTSTART:20211107T060000
END:STANDARD
END:VTIMEZONE
BEGIN:VEVENT
DTSTART;TZID=America/New_York:20200506T090000
DTEND;TZID=America/New_York:20200506T140000
DTSTAMP:20260421T143239
CREATED:20200317T155835Z
LAST-MODIFIED:20200317T165422Z
UID:957-1588755600-1588773600@kelloggarena.com
SUMMARY:Battle Creek Farmers Market
DESCRIPTION:The Battle Creek Farmers Market at Festival Market Square is scheduled to open on Wednesday\, May 6th.\nWednesday Market hours will be 9am to 2pm.\nFriday Market hours will be 3 to 7pm.\nFood Truck Friday events are being planned for May 15\, June 19\, July 17 and August 14.\nMarket management and vendors are busy planning for the best season ever! We expect to have live music at all of the markets and there are some other exciting events in the works. Stay tuned for details!
URL:https://kelloggarena.com/event/battle-creek-farmers-market-2/2020-05-06/
LOCATION:Festival Market Square\, 25 McCamly St S\,\, Battle Creek\, Michigan\, 49017\, United States
CATEGORIES:Farmers Market,Summer Series
ATTACH;FMTTYPE=image/jpeg:https://kelloggarena.com/wp-content/uploads/2020/03/Farmers.jpg
END:VEVENT
BEGIN:VEVENT
DTSTART;TZID=America/New_York:20191030T090000
DTEND;TZID=America/New_York:20191030T140000
DTSTAMP:20260421T143239
CREATED:20191029T193849Z
LAST-MODIFIED:20191029T193849Z
UID:243-1572426000-1572444000@kelloggarena.com
SUMMARY:Battle Creek Farmers Market
DESCRIPTION:Fresh\, local grown foods just minutes away! Visit Festival Market Square for your healthy choice in Goods and enjoy local musicians playing as you Shop! Cheese\, flowers\, vegetables are just a few of many different goods sold at the Farmer’s Market. There’s something for everyone! See you there!
URL:https://kelloggarena.com/event/battle-creek-farmers-market/
LOCATION:Festival Market Square\, 25 McCamly St S\,\, Battle Creek\, Michigan\, 49017\, United States
CATEGORIES:Farmers Market,Summer Series
END:VEVENT
BEGIN:VEVENT
DTSTART;TZID=America/New_York:20191018T130000
DTEND;TZID=America/New_York:20191018T170000
DTSTAMP:20260421T143239
CREATED:20190924T232640Z
LAST-MODIFIED:20190924T232829Z
UID:111-1571403600-1571418000@kelloggarena.com
SUMMARY:Food Truck Fridays
DESCRIPTION:Bring friends and family for an entertaining night out in downtown Battle Creek for Food Truck Friday! We’ve added even more excitement this year with performances from a DJ who breaks it down by era throughout the night! Grab a beer and have the time of your life!!
URL:https://kelloggarena.com/event/food-truck-fridays/
LOCATION:Festival Market Square\, 25 McCamly St S\,\, Battle Creek\, Michigan\, 49017\, United States
CATEGORIES:Summer Series
ATTACH;FMTTYPE=image/png:https://kelloggarena.com/wp-content/uploads/2019/09/food-truck-fri.png
END:VEVENT
END:VCALENDAR