BEGIN:VCALENDAR
VERSION:2.0
PRODID:-//Kellogg Arena - ECPv6.15.18//NONSGML v1.0//EN
CALSCALE:GREGORIAN
METHOD:PUBLISH
X-WR-CALNAME:Kellogg Arena
X-ORIGINAL-URL:https://kelloggarena.com
X-WR-CALDESC:Events for Kellogg Arena
REFRESH-INTERVAL;VALUE=DURATION:PT1H
X-Robots-Tag:noindex
X-PUBLISHED-TTL:PT1H
BEGIN:VTIMEZONE
TZID:America/New_York
BEGIN:DAYLIGHT
TZOFFSETFROM:-0500
TZOFFSETTO:-0400
TZNAME:EDT
DTSTART:20180311T070000
END:DAYLIGHT
BEGIN:STANDARD
TZOFFSETFROM:-0400
TZOFFSETTO:-0500
TZNAME:EST
DTSTART:20181104T060000
END:STANDARD
BEGIN:DAYLIGHT
TZOFFSETFROM:-0500
TZOFFSETTO:-0400
TZNAME:EDT
DTSTART:20190310T070000
END:DAYLIGHT
BEGIN:STANDARD
TZOFFSETFROM:-0400
TZOFFSETTO:-0500
TZNAME:EST
DTSTART:20191103T060000
END:STANDARD
BEGIN:DAYLIGHT
TZOFFSETFROM:-0500
TZOFFSETTO:-0400
TZNAME:EDT
DTSTART:20200308T070000
END:DAYLIGHT
BEGIN:STANDARD
TZOFFSETFROM:-0400
TZOFFSETTO:-0500
TZNAME:EST
DTSTART:20201101T060000
END:STANDARD
BEGIN:DAYLIGHT
TZOFFSETFROM:-0500
TZOFFSETTO:-0400
TZNAME:EDT
DTSTART:20210314T070000
END:DAYLIGHT
BEGIN:STANDARD
TZOFFSETFROM:-0400
TZOFFSETTO:-0500
TZNAME:EST
DTSTART:20211107T060000
END:STANDARD
BEGIN:DAYLIGHT
TZOFFSETFROM:-0500
TZOFFSETTO:-0400
TZNAME:EDT
DTSTART:20220313T070000
END:DAYLIGHT
BEGIN:STANDARD
TZOFFSETFROM:-0400
TZOFFSETTO:-0500
TZNAME:EST
DTSTART:20221106T060000
END:STANDARD
END:VTIMEZONE
BEGIN:VEVENT
DTSTART;TZID=America/New_York:20210731T180000
DTEND;TZID=America/New_York:20210731T210000
DTSTAMP:20260421T125859
CREATED:20210622T132954Z
LAST-MODIFIED:20210623T142609Z
UID:1481-1627754400-1627765200@kelloggarena.com
SUMMARY:Summer Comedy Bash
DESCRIPTION:July 31\, 2021 6pm-9pm \nAdmission: $5 (Must be 21+) \nFestival Market Square \nComic Line Up: \nRichard Mathis \nKara Coraci \nDavid Steves \nMelanie Hearn \nIsiah Kelly \nJeff Horste \nDJ Saulsberry \nList of Vendors coming soon! \n  \nInterested in becoming a vendor or sponsor? For more information contact Kelly Walden at kwalden@kelloggarena.com or 269.788.1102 \nVendor Table Rental: $50 Vendor Application – Summer Comedy Bash \nSponsorship: $500 \n-10 by 10 vendor booth \n-Marquee Ad – July 25 – 30 (Located at Capital Ave. and Hamblin Ave.) \n-Logo on Event Website \n-Social Media Sponsorship Tags \n-Five Complimentary Tickets
URL:https://kelloggarena.com/event/summer-comedy-bash/
LOCATION:Festival Market Square\, 25 McCamly St S\,\, Battle Creek\, Michigan\, 49017\, United States
CATEGORIES:Arena Events
ATTACH;FMTTYPE=image/jpeg:https://kelloggarena.com/wp-content/uploads/2021/06/Summer-Comedy-Bash-Website.jpg
END:VEVENT
BEGIN:VEVENT
DTSTART;TZID=America/New_York:20210724T150000
DTEND;TZID=America/New_York:20210724T210000
DTSTAMP:20260421T125859
CREATED:20210630T180402Z
LAST-MODIFIED:20210720T134131Z
UID:1508-1627138800-1627160400@kelloggarena.com
SUMMARY:The Main Event - Stop and Shop
DESCRIPTION:Stop down at Festival Market Square and Shop!\nFREE Admission\n\nVendors:\nVisions of Melanin\nTruth Natural\nTe-Na-Cious\nWavy Life\nEverything Blunted\nJeweled\nPaparazzi\nRound Two Enterprises\nCool Bamboo Sheets\nAND MORE!\n\nWith music by DJ Rockin’ Roy\n\nLooking to become a vendor? Contact Carmala Freeman at 269.830.9579 or email carmelafreeman3@gmail.com
URL:https://kelloggarena.com/event/the-main-event-stop-and-shop/
LOCATION:Festival Market Square\, 25 McCamly St S\,\, Battle Creek\, Michigan\, 49017\, United States
ATTACH;FMTTYPE=image/jpeg:https://kelloggarena.com/wp-content/uploads/2021/06/Website-July-24.jpg
END:VEVENT
BEGIN:VEVENT
DTSTART;TZID=America/New_York:20210717T170000
DTEND;TZID=America/New_York:20210717T220000
DTSTAMP:20260421T125859
CREATED:20210413T163423Z
LAST-MODIFIED:20210630T190605Z
UID:1259-1626541200-1626559200@kelloggarena.com
SUMMARY:Caribbean Festival
DESCRIPTION:Caribbean Festival 2021! Enter into your own piece of the Caribbean right here in downtown Battle Creek\, no passport required! Join us July 17\, 2021 from 5pm-10pm at Festival Market Square. LIVE Caribbean Entertainment\,  Music\, International Food Market\, Caribbean Village Craft Vendors and MORE!  Adult beverages available for 21+. \nMusic by MC Assane Dia\, Featuring: KOJO\, Gizzae and Flex Crew \n\nInternational Food Market\n      \n\n\n\n\nCaribbean Village Craft Vendors\nMoh’s Jamaican Ting\nBling Me Out\nHenna Art by Ang & Face Painting\nCrafty Jenny\nTe Na Cious Style Clothing\nDia Doug Glass\nKarma Fine Jewelry\n\n  \nWhen:                          Saturday\, July 17th\, 2021  5:00PM-10:00PM \nWhere:                         Festival Square Market \nAdmission:                  \nAdvanced Tickets: 2 for $8\, Children 5 & under FREE \nDay of Show: $5\, Children 5 & under FREE \nTICKETS ON SALE NOW \n  \nSPONSORED BY \n \n 
URL:https://kelloggarena.com/event/caribbean-festival/
LOCATION:Festival Market Square\, 25 McCamly St S\,\, Battle Creek\, Michigan\, 49017\, United States
CATEGORIES:Arena Events,Carribbean Festival,Family Friendly,Festivals
ATTACH;FMTTYPE=image/jpeg:https://kelloggarena.com/wp-content/uploads/2021/04/Website-Image.jpg
END:VEVENT
BEGIN:VEVENT
DTSTART;TZID=America/New_York:20210710T150000
DTEND;TZID=America/New_York:20210710T210000
DTSTAMP:20260421T125859
CREATED:20210610T183035Z
LAST-MODIFIED:20210630T144032Z
UID:1424-1625929200-1625950800@kelloggarena.com
SUMMARY:The Main Event: Stop & Shop Kids Entrepreneur's Day
DESCRIPTION:Show your love! Come on out! Be apart of their world! The Main Event: Stop & Shop Kids Entrepreneur’s Day will be held at Festival Market Square\, Saturday\, July 10 from 3pm – 9pm. \nFREE Admission \nVendors: \nCute As Can Be \nThe Neighborhood Youth Group \nDiscovery Toy \nOwen’s Riverside Candles \nPretty Pilah’s Masterpieces \nDZ3 Girls \nand MORE! \nFor more information or how to become a vendor contact Carmala Freeman at carmelafreeman3@gmail.com
URL:https://kelloggarena.com/event/the-main-event-stop-shop-kids-entrepreneurs-day/
LOCATION:Festival Market Square\, 25 McCamly St S\,\, Battle Creek\, Michigan\, 49017\, United States
CATEGORIES:Summer Series
ATTACH;FMTTYPE=image/jpeg:https://kelloggarena.com/wp-content/uploads/2021/06/Wbsite-Rescheduled-.jpg
END:VEVENT
BEGIN:VEVENT
DTSTART;TZID=America/New_York:20210617T190000
DTEND;TZID=America/New_York:20210617T210000
DTSTAMP:20260421T125859
CREATED:20210610T181858Z
LAST-MODIFIED:20210622T144036Z
UID:1419-1623956400-1623963600@kelloggarena.com
SUMMARY:Post Band Concert Series
DESCRIPTION:FREE Admission! \nPost Band is an outdoor concert series made up of area high school students as well as seasoned musicians. The concert band performs five times this summer; June 17\, June 24\, July 1\, July 15\, July 22\, each show beginning at 7pm at Festival Market Square. The Post Band creates a special theme each week and is performed rain or shine. If inclement weather should arise the concert is held inside the Kellogg Arena. \nSome table seating available\, feel free to bring your lawn chairs! \nSponsored by Post Consumer Brands
URL:https://kelloggarena.com/event/post-band-concert-series/2021-06-17/
LOCATION:Festival Market Square\, 25 McCamly St S\,\, Battle Creek\, Michigan\, 49017\, United States
CATEGORIES:Post Band Concerts,Summer Series
ATTACH;FMTTYPE=image/jpeg:https://kelloggarena.com/wp-content/uploads/2021/06/Post-Band-Website-Image.jpg
END:VEVENT
BEGIN:VEVENT
DTSTART;TZID=America/New_York:20210529T150000
DTEND;TZID=America/New_York:20210529T210000
DTSTAMP:20260421T125859
CREATED:20210517T182950Z
LAST-MODIFIED:20210518T125820Z
UID:1361-1622300400-1622322000@kelloggarena.com
SUMMARY:The Main Event - Stop & Shop
DESCRIPTION:Stop & Shop on Saturday\, May 29\, at Festival Market Square from 3pm – 9pm. Amazing entrepreneurs are coming with their amazing products to give you the shopping experience of the year. Don’t meet us there! Beat us there!\nVisions of Melanin\nQT’s Sparkle LLC – Custom Glitter Décor & Crafts\nEverything Blunted\nQueen by Sierra Shanelle\nTamed by Tree Hairstyling Co.\nThe Beads Knees\nJeweled LLC – 100% soy scented candles and wax melts\nMy Beautii\nJ’s Bling & Things\nBead Venture\nSincere Truth Moment Lashes & Accessories\nLimitless Kollide-O-Scope\nHerbalife – Personal Wellness Coach\nPretty Sweet and Chic\nZili’s\nPenny’s Sweet Treats\n\nMusic by DJ Rockin’ Boy\n\nFREE Admission
URL:https://kelloggarena.com/event/the-main-event-stop-shop/
LOCATION:Festival Market Square\, 25 McCamly St S\,\, Battle Creek\, Michigan\, 49017\, United States
CATEGORIES:Family Friendly
ATTACH;FMTTYPE=image/jpeg:https://kelloggarena.com/wp-content/uploads/2021/05/Website-The-Main-Event-May.jpg
END:VEVENT
BEGIN:VEVENT
DTSTART;TZID=America/New_York:20210514T170000
DTEND;TZID=America/New_York:20210514T200000
DTSTAMP:20260421T125859
CREATED:20210511T163359Z
LAST-MODIFIED:20210803T130311Z
UID:1328-1621011600-1621022400@kelloggarena.com
SUMMARY:Food Truck Fridays
DESCRIPTION:Join us downtown Battle Creek at Festival Market Square for Battle Creek Farmers Market Vendors\, Food Trucks and LIVE MUSIC!\nFREE Admission \n  \nLIVE MUSIC LINE UP: \nAugust 6 LaSoulfulRock \nAugust 13 Dave’s Solo Show \nAugust 20 Macy Krew \nAugust 27 Reed & Steel \nSeptember 3 Big Trouble \nSeptember 10 Dave’s Solo Show \nSeptember 27 Celestial \nSeptember 24 Macy Krew
URL:https://kelloggarena.com/event/food-truck-fridays-3/2021-05-14/
LOCATION:Festival Market Square\, 25 McCamly St S\,\, Battle Creek\, Michigan\, 49017\, United States
CATEGORIES:Arena Events,Food Truck Friday's,Music,Summer Series
ATTACH;FMTTYPE=image/jpeg:https://kelloggarena.com/wp-content/uploads/2021/05/Website-Image.jpg
END:VEVENT
BEGIN:VEVENT
DTSTART;TZID=America/New_York:20210505T090000
DTEND;TZID=America/New_York:20210505T130000
DTSTAMP:20260421T125859
CREATED:20210505T162300Z
LAST-MODIFIED:20210805T144338Z
UID:1274-1620205200-1620219600@kelloggarena.com
SUMMARY:Battle Creek Farmers Market
DESCRIPTION:Our family of vendors offer a wide selection of products for you to enjoy. From fresh\, high quality Michigan grown fruits and vegetables\, to honey and maple syrup\, to cheese and flowers\, our farmer vendors offer you their best. You’ll find asparagus\, rhubarb\, bedding plants and hanging baskets in the spring. Then come the strawberries\, blueberries and peaches. Fresh tomatoes and sweet corn are other customer favorites. Come fall there will be Michigan apples\, cider and lots of pumpkins! And that’s just a few of the delicious items you’ll find at the market. You’ll also find an excellent selection of baked goods\, including bread\, cookies\, pies\, cupcakes and more. Even gluten-free items. We’ve got ready to eat food\, too! Grab a pasty or try a taco from one of the food trucks then find a table\, sit down and enjoy your lunch while listening to live music. Michigan summer doesn’t last forever so enjoy every minute of it you can! \nSocial Distancing Required
URL:https://kelloggarena.com/event/battle-creek-farmers-market-3/2021-05-05/
LOCATION:Festival Market Square\, 25 McCamly St S\,\, Battle Creek\, Michigan\, 49017\, United States
CATEGORIES:Family Friendly,Farmers Market,Music,Summer Series
ATTACH;FMTTYPE=image/jpeg:https://kelloggarena.com/wp-content/uploads/2021/05/Farmers-Market-Website.jpg
END:VEVENT
BEGIN:VEVENT
DTSTART;TZID=America/New_York:20200613T080000
DTEND;TZID=America/New_York:20200613T123000
DTSTAMP:20260421T125859
CREATED:20191113T214102Z
LAST-MODIFIED:20200612T195905Z
UID:509-1592035200-1592051400@kelloggarena.com
SUMMARY:National Cereal Festival 2020
DESCRIPTION:National Cereal Festival 2020 updated information \nBATTLE CREEK\, MI – For years\, National Cereal Festival has taken place in the heart of downtown Battle Creek. This signature festival highlights Battle Creek’s heritage as the birthplace of the cereal industry and is a tradition that draws people from far and wide. In these unprecedented times\, it is with heavy hearts\, the joint decision has been made by the National Cereal Festival Committee and CCDC to cancel National Cereal Festival 2020 scheduled for June 13\, 2020.\nThe safety and health of the Battle Creek community\, out of town guests\, staff\, volunteers and entertainers are our top priority. Just like every other summer festival\, we are following federal\, state and city guidelines and are unable to be fully confident that it will be safe to gather in June of 2020.\nIn lieu of serving thousands of people free breakfast this June\, Kellogg Company and Post Consumers Brand have generously donated approximately 1\,500 boxes of cereal to the South Michigan Food Bank. Kellogg Company will also be making a monetary donation to the United Way of the Battle Creek and Kalamazoo Region. These donations will help immensely with increased need to help families during the Covid-19 pandemic.\n“We are truly disappointed that we are unable to host the festival this year. It is a great kickoff to the summer season. Please stay safe and we look forward to seeing everyone for National Cereal Festival 2021!” said Ben Randels\, CCDC General Manager
URL:https://kelloggarena.com/event/annual-cereal-festival/
LOCATION:Festival Market Square\, 25 McCamly St S\,\, Battle Creek\, Michigan\, 49017\, United States
CATEGORIES:Cereal Festival,Festivals
ATTACH;FMTTYPE=image/jpeg:https://kelloggarena.com/wp-content/uploads/2019/11/Website-Update-Cover.jpg
END:VEVENT
BEGIN:VEVENT
DTSTART;TZID=America/New_York:20200515T170000
DTEND;TZID=America/New_York:20200515T210000
DTSTAMP:20260421T125859
CREATED:20200317T163925Z
LAST-MODIFIED:20200612T195854Z
UID:1011-1589562000-1589576400@kelloggarena.com
SUMMARY:Food Truck Fridays
DESCRIPTION:Food Truck Fridays are back! Food Truck Friday events are being planned for June 19\, July 17 and August 14. \nJune 19 will be an extension of the Battle Creek Farmers Market \nJuly 17 & August 14 will feature Live Music and Full Bar! \nMore details to come!
URL:https://kelloggarena.com/event/food-truck-fridays-2/2020-05-15/
LOCATION:Festival Market Square\, 25 McCamly St S\,\, Battle Creek\, Michigan\, 49017\, United States
CATEGORIES:Family Friendly,Food Truck Friday's,Music,Summer Series
ATTACH;FMTTYPE=image/jpeg:https://kelloggarena.com/wp-content/uploads/2020/03/Food-Trucks.jpg
END:VEVENT
BEGIN:VEVENT
DTSTART;TZID=America/New_York:20200506T090000
DTEND;TZID=America/New_York:20200506T140000
DTSTAMP:20260421T125859
CREATED:20200317T155835Z
LAST-MODIFIED:20200317T165422Z
UID:957-1588755600-1588773600@kelloggarena.com
SUMMARY:Battle Creek Farmers Market
DESCRIPTION:The Battle Creek Farmers Market at Festival Market Square is scheduled to open on Wednesday\, May 6th.\nWednesday Market hours will be 9am to 2pm.\nFriday Market hours will be 3 to 7pm.\nFood Truck Friday events are being planned for May 15\, June 19\, July 17 and August 14.\nMarket management and vendors are busy planning for the best season ever! We expect to have live music at all of the markets and there are some other exciting events in the works. Stay tuned for details!
URL:https://kelloggarena.com/event/battle-creek-farmers-market-2/2020-05-06/
LOCATION:Festival Market Square\, 25 McCamly St S\,\, Battle Creek\, Michigan\, 49017\, United States
CATEGORIES:Farmers Market,Summer Series
ATTACH;FMTTYPE=image/jpeg:https://kelloggarena.com/wp-content/uploads/2020/03/Farmers.jpg
END:VEVENT
BEGIN:VEVENT
DTSTART;TZID=America/New_York:20191030T090000
DTEND;TZID=America/New_York:20191030T140000
DTSTAMP:20260421T125859
CREATED:20191029T193849Z
LAST-MODIFIED:20191029T193849Z
UID:243-1572426000-1572444000@kelloggarena.com
SUMMARY:Battle Creek Farmers Market
DESCRIPTION:Fresh\, local grown foods just minutes away! Visit Festival Market Square for your healthy choice in Goods and enjoy local musicians playing as you Shop! Cheese\, flowers\, vegetables are just a few of many different goods sold at the Farmer’s Market. There’s something for everyone! See you there!
URL:https://kelloggarena.com/event/battle-creek-farmers-market/
LOCATION:Festival Market Square\, 25 McCamly St S\,\, Battle Creek\, Michigan\, 49017\, United States
CATEGORIES:Farmers Market,Summer Series
END:VEVENT
BEGIN:VEVENT
DTSTART;TZID=America/New_York:20191018T130000
DTEND;TZID=America/New_York:20191018T170000
DTSTAMP:20260421T125859
CREATED:20190924T232640Z
LAST-MODIFIED:20190924T232829Z
UID:111-1571403600-1571418000@kelloggarena.com
SUMMARY:Food Truck Fridays
DESCRIPTION:Bring friends and family for an entertaining night out in downtown Battle Creek for Food Truck Friday! We’ve added even more excitement this year with performances from a DJ who breaks it down by era throughout the night! Grab a beer and have the time of your life!!
URL:https://kelloggarena.com/event/food-truck-fridays/
LOCATION:Festival Market Square\, 25 McCamly St S\,\, Battle Creek\, Michigan\, 49017\, United States
CATEGORIES:Summer Series
ATTACH;FMTTYPE=image/png:https://kelloggarena.com/wp-content/uploads/2019/09/food-truck-fri.png
END:VEVENT
END:VCALENDAR