BEGIN:VCALENDAR
VERSION:2.0
PRODID:-//Kellogg Arena - ECPv6.15.18//NONSGML v1.0//EN
CALSCALE:GREGORIAN
METHOD:PUBLISH
X-ORIGINAL-URL:https://kelloggarena.com
X-WR-CALDESC:Events for Kellogg Arena
REFRESH-INTERVAL;VALUE=DURATION:PT1H
X-Robots-Tag:noindex
X-PUBLISHED-TTL:PT1H
BEGIN:VTIMEZONE
TZID:America/New_York
BEGIN:DAYLIGHT
TZOFFSETFROM:-0500
TZOFFSETTO:-0400
TZNAME:EDT
DTSTART:20190310T070000
END:DAYLIGHT
BEGIN:STANDARD
TZOFFSETFROM:-0400
TZOFFSETTO:-0500
TZNAME:EST
DTSTART:20191103T060000
END:STANDARD
BEGIN:DAYLIGHT
TZOFFSETFROM:-0500
TZOFFSETTO:-0400
TZNAME:EDT
DTSTART:20200308T070000
END:DAYLIGHT
BEGIN:STANDARD
TZOFFSETFROM:-0400
TZOFFSETTO:-0500
TZNAME:EST
DTSTART:20201101T060000
END:STANDARD
BEGIN:DAYLIGHT
TZOFFSETFROM:-0500
TZOFFSETTO:-0400
TZNAME:EDT
DTSTART:20210314T070000
END:DAYLIGHT
BEGIN:STANDARD
TZOFFSETFROM:-0400
TZOFFSETTO:-0500
TZNAME:EST
DTSTART:20211107T060000
END:STANDARD
BEGIN:DAYLIGHT
TZOFFSETFROM:-0500
TZOFFSETTO:-0400
TZNAME:EDT
DTSTART:20220313T070000
END:DAYLIGHT
BEGIN:STANDARD
TZOFFSETFROM:-0400
TZOFFSETTO:-0500
TZNAME:EST
DTSTART:20221106T060000
END:STANDARD
END:VTIMEZONE
BEGIN:VEVENT
DTSTART;TZID=America/New_York:20210702T170000
DTEND;TZID=America/New_York:20210702T193000
DTSTAMP:20260424T152001
CREATED:20210511T164921Z
LAST-MODIFIED:20210723T182717Z
UID:1353-1625245200-1625254200@kelloggarena.com
SUMMARY:Vibe @ 5
DESCRIPTION:Vibe @ 5 is back! Join us for this FREE concert series at Friendship Park from 5pm – 7:30pm! Bring your lawn chairs and enjoy a night of LIVE Music! \nJuly 23 – Night Moves \nJuly 30 – TYPO \nAugust 6 – Allie Garland and Awesome Sauce
URL:https://kelloggarena.com/event/vibe-5-2/2021-07-02/
LOCATION:Friendship Park\, 10 State Street\, Battle Creek\, MI\, 49017\, United States
CATEGORIES:Arena Events,Music,Summer Series,Vibe @ 5
ATTACH;FMTTYPE=image/jpeg:https://kelloggarena.com/wp-content/uploads/2021/05/Vibe-at-5-Website-2021.jpg
END:VEVENT
BEGIN:VEVENT
DTSTART;TZID=America/New_York:20200703T170000
DTEND;TZID=America/New_York:20200703T193000
DTSTAMP:20260424T152001
CREATED:20200629T170302Z
LAST-MODIFIED:20200810T173802Z
UID:1097-1593795600-1593804600@kelloggarena.com
SUMMARY:Vibe @ 5
DESCRIPTION:Last concert of the season! \nAugust 14\, 2020 Airtight (Blues/Jazz/Motown/R&B) \nWill be held at FESTIVAL MARKET SQUARE \nLooking for a musical performance that is airtight and will make you feel all right? Then get ready for Airtight! Known for their renditions of Jazz\, Blues\, Motown\, and R&B music\, Airtight consists of local musicians from Albion and Jackson area with over 100 years of musical experience who have traveled the world performing the hottest cover songs. Airtight has been together for over 10 years\, moving and grooving together and doing what they do best\, entertaining audiences with their soulful and energetic music that covers a variety of different music genres.
URL:https://kelloggarena.com/event/vibe-5/2020-07-03/
LOCATION:Friendship Park\, 10 State Street\, Battle Creek\, MI\, 49017\, United States
CATEGORIES:Vibe @ 5
ATTACH;FMTTYPE=image/jpeg:https://kelloggarena.com/wp-content/uploads/2020/06/Vibe-at-5-Website.jpg
END:VEVENT
END:VCALENDAR