BEGIN:VCALENDAR
VERSION:2.0
PRODID:-//Kellogg Arena - ECPv6.15.18//NONSGML v1.0//EN
CALSCALE:GREGORIAN
METHOD:PUBLISH
X-WR-CALNAME:Kellogg Arena
X-ORIGINAL-URL:https://kelloggarena.com
X-WR-CALDESC:Events for Kellogg Arena
REFRESH-INTERVAL;VALUE=DURATION:PT1H
X-Robots-Tag:noindex
X-PUBLISHED-TTL:PT1H
BEGIN:VTIMEZONE
TZID:America/New_York
BEGIN:DAYLIGHT
TZOFFSETFROM:-0500
TZOFFSETTO:-0400
TZNAME:EDT
DTSTART:20200308T070000
END:DAYLIGHT
BEGIN:STANDARD
TZOFFSETFROM:-0400
TZOFFSETTO:-0500
TZNAME:EST
DTSTART:20201101T060000
END:STANDARD
BEGIN:DAYLIGHT
TZOFFSETFROM:-0500
TZOFFSETTO:-0400
TZNAME:EDT
DTSTART:20210314T070000
END:DAYLIGHT
BEGIN:STANDARD
TZOFFSETFROM:-0400
TZOFFSETTO:-0500
TZNAME:EST
DTSTART:20211107T060000
END:STANDARD
BEGIN:DAYLIGHT
TZOFFSETFROM:-0500
TZOFFSETTO:-0400
TZNAME:EDT
DTSTART:20220313T070000
END:DAYLIGHT
BEGIN:STANDARD
TZOFFSETFROM:-0400
TZOFFSETTO:-0500
TZNAME:EST
DTSTART:20221106T060000
END:STANDARD
END:VTIMEZONE
BEGIN:VEVENT
DTSTART;TZID=America/New_York:20210617T190000
DTEND;TZID=America/New_York:20210617T210000
DTSTAMP:20260423T060039
CREATED:20210610T181858Z
LAST-MODIFIED:20210622T144036Z
UID:1419-1623956400-1623963600@kelloggarena.com
SUMMARY:Post Band Concert Series
DESCRIPTION:FREE Admission! \nPost Band is an outdoor concert series made up of area high school students as well as seasoned musicians. The concert band performs five times this summer; June 17\, June 24\, July 1\, July 15\, July 22\, each show beginning at 7pm at Festival Market Square. The Post Band creates a special theme each week and is performed rain or shine. If inclement weather should arise the concert is held inside the Kellogg Arena. \nSome table seating available\, feel free to bring your lawn chairs! \nSponsored by Post Consumer Brands
URL:https://kelloggarena.com/event/post-band-concert-series/2021-06-17/
LOCATION:Festival Market Square\, 25 McCamly St S\,\, Battle Creek\, Michigan\, 49017\, United States
CATEGORIES:Post Band Concerts,Summer Series
ATTACH;FMTTYPE=image/jpeg:https://kelloggarena.com/wp-content/uploads/2021/06/Post-Band-Website-Image.jpg
END:VEVENT
END:VCALENDAR