BEGIN:VCALENDAR
VERSION:2.0
PRODID:-//Kellogg Arena - ECPv6.15.18//NONSGML v1.0//EN
CALSCALE:GREGORIAN
METHOD:PUBLISH
X-ORIGINAL-URL:https://kelloggarena.com
X-WR-CALDESC:Events for Kellogg Arena
REFRESH-INTERVAL;VALUE=DURATION:PT1H
X-Robots-Tag:noindex
X-PUBLISHED-TTL:PT1H
BEGIN:VTIMEZONE
TZID:America/New_York
BEGIN:DAYLIGHT
TZOFFSETFROM:-0500
TZOFFSETTO:-0400
TZNAME:EDT
DTSTART:20240310T070000
END:DAYLIGHT
BEGIN:STANDARD
TZOFFSETFROM:-0400
TZOFFSETTO:-0500
TZNAME:EST
DTSTART:20241103T060000
END:STANDARD
BEGIN:DAYLIGHT
TZOFFSETFROM:-0500
TZOFFSETTO:-0400
TZNAME:EDT
DTSTART:20250309T070000
END:DAYLIGHT
BEGIN:STANDARD
TZOFFSETFROM:-0400
TZOFFSETTO:-0500
TZNAME:EST
DTSTART:20251102T060000
END:STANDARD
BEGIN:DAYLIGHT
TZOFFSETFROM:-0500
TZOFFSETTO:-0400
TZNAME:EDT
DTSTART:20260308T070000
END:DAYLIGHT
BEGIN:STANDARD
TZOFFSETFROM:-0400
TZOFFSETTO:-0500
TZNAME:EST
DTSTART:20261101T060000
END:STANDARD
END:VTIMEZONE
BEGIN:VEVENT
DTSTART;TZID=America/New_York:20250514T090000
DTEND;TZID=America/New_York:20250514T130000
DTSTAMP:20260421T065057
CREATED:20250325T193851Z
LAST-MODIFIED:20250325T194051Z
UID:4374-1747213200-1747227600@kelloggarena.com
SUMMARY:Opening Day: Battle Creek Farmers Market
DESCRIPTION:🌿 Join us for the opening day of the Battle Creek Farmers Market 2025 season! Experience an array of local farm vendors\, artisan goods\, live music and more! \nWe gladly accept SNAP and Double Up Food Bucks! \n \nInterested in becoming a vendor? Get more information HERE! \nWant to showcase your brand for thousands to see? Become a sponsor!  \n 
URL:https://kelloggarena.com/event/opening-day-battle-creek-farmers-market/
LOCATION:Festival Market Square\, 25 McCamly St S\,\, Battle Creek\, Michigan\, 49017\, United States
CATEGORIES:Arena Events,Family Friendly,Farmers Market,Music,Summer Series
ATTACH;FMTTYPE=image/png:https://kelloggarena.com/wp-content/uploads/2025/03/Website-Event-Images-128.png
END:VEVENT
END:VCALENDAR