BEGIN:VCALENDAR
VERSION:2.0
PRODID:-//Kellogg Arena - ECPv6.15.18//NONSGML v1.0//EN
CALSCALE:GREGORIAN
METHOD:PUBLISH
X-ORIGINAL-URL:https://kelloggarena.com
X-WR-CALDESC:Events for Kellogg Arena
REFRESH-INTERVAL;VALUE=DURATION:PT1H
X-Robots-Tag:noindex
X-PUBLISHED-TTL:PT1H
BEGIN:VTIMEZONE
TZID:America/New_York
BEGIN:DAYLIGHT
TZOFFSETFROM:-0500
TZOFFSETTO:-0400
TZNAME:EDT
DTSTART:20230312T070000
END:DAYLIGHT
BEGIN:STANDARD
TZOFFSETFROM:-0400
TZOFFSETTO:-0500
TZNAME:EST
DTSTART:20231105T060000
END:STANDARD
BEGIN:DAYLIGHT
TZOFFSETFROM:-0500
TZOFFSETTO:-0400
TZNAME:EDT
DTSTART:20240310T070000
END:DAYLIGHT
BEGIN:STANDARD
TZOFFSETFROM:-0400
TZOFFSETTO:-0500
TZNAME:EST
DTSTART:20241103T060000
END:STANDARD
BEGIN:DAYLIGHT
TZOFFSETFROM:-0500
TZOFFSETTO:-0400
TZNAME:EDT
DTSTART:20250309T070000
END:DAYLIGHT
BEGIN:STANDARD
TZOFFSETFROM:-0400
TZOFFSETTO:-0500
TZNAME:EST
DTSTART:20251102T060000
END:STANDARD
END:VTIMEZONE
BEGIN:VEVENT
DTSTART;TZID=America/New_York:20240816T180000
DTEND;TZID=America/New_York:20240816T210000
DTSTAMP:20260421T210118
CREATED:20240424T155627Z
LAST-MODIFIED:20240424T162853Z
UID:3506-1723831200-1723842000@kelloggarena.com
SUMMARY:Friday Night Market - Summer Block Party
DESCRIPTION:Celebrate summer at our Friday Night Market Block Party at the Battle Creek Farmers Market! Featuring farm vendors\, craft vendors\, food trucks and live music by Rock Rx! \nAugust 16\, 2024 from 6pm-9pm! \nFood truck and vendor info coming soon! \nFREE ADMISSION \n\n\nVendor Registration Form
URL:https://kelloggarena.com/event/friday-night-market-2/
LOCATION:Festival Market Square\, 25 McCamly St S\,\, Battle Creek\, Michigan\, 49017\, United States
CATEGORIES:Arena Events,Family Friendly,Farmers Market,Food Truck Friday's,Music,Summer Series
ATTACH;FMTTYPE=image/png:https://kelloggarena.com/wp-content/uploads/2024/04/Website-Event-Images-38.png
END:VEVENT
BEGIN:VEVENT
DTSTART;TZID=America/New_York:20240821T090000
DTEND;TZID=America/New_York:20240821T130000
DTSTAMP:20260421T210118
CREATED:20240620T032650Z
LAST-MODIFIED:20240620T033413Z
UID:3707-1724230800-1724245200@kelloggarena.com
SUMMARY:Battle Creek Farmers Market - Back to School Bash
DESCRIPTION:Stop out to our Back to School Bash on August 21st at Festival Market Square from 9am-1pm! \nBeginning at 10am\, we’ll be giving away 50 lunchboxes courtesy of the Kellogg Arena\, along with 50 packed pencil pouches from Sprout BC and 50 snack bars\, food organizers\, and more from Battle Creek Family YMCA! Mark your calendars\, you won’t want to miss out!
URL:https://kelloggarena.com/event/battle-creek-farmers-market-back-to-school-bash-2/
LOCATION:Festival Market Square\, 25 McCamly St S\,\, Battle Creek\, Michigan\, 49017\, United States
CATEGORIES:Arena Events,Family Friendly,Farmers Market,Music
ATTACH;FMTTYPE=image/png:https://kelloggarena.com/wp-content/uploads/2024/06/Website-Event-Images-57.png
END:VEVENT
END:VCALENDAR