BEGIN:VCALENDAR
VERSION:2.0
PRODID:-//Kellogg Arena - ECPv6.15.18//NONSGML v1.0//EN
CALSCALE:GREGORIAN
METHOD:PUBLISH
X-WR-CALNAME:Kellogg Arena
X-ORIGINAL-URL:https://kelloggarena.com
X-WR-CALDESC:Events for Kellogg Arena
REFRESH-INTERVAL;VALUE=DURATION:PT1H
X-Robots-Tag:noindex
X-PUBLISHED-TTL:PT1H
BEGIN:VTIMEZONE
TZID:America/New_York
BEGIN:DAYLIGHT
TZOFFSETFROM:-0500
TZOFFSETTO:-0400
TZNAME:EDT
DTSTART:20230312T070000
END:DAYLIGHT
BEGIN:STANDARD
TZOFFSETFROM:-0400
TZOFFSETTO:-0500
TZNAME:EST
DTSTART:20231105T060000
END:STANDARD
BEGIN:DAYLIGHT
TZOFFSETFROM:-0500
TZOFFSETTO:-0400
TZNAME:EDT
DTSTART:20240310T070000
END:DAYLIGHT
BEGIN:STANDARD
TZOFFSETFROM:-0400
TZOFFSETTO:-0500
TZNAME:EST
DTSTART:20241103T060000
END:STANDARD
BEGIN:DAYLIGHT
TZOFFSETFROM:-0500
TZOFFSETTO:-0400
TZNAME:EDT
DTSTART:20250309T070000
END:DAYLIGHT
BEGIN:STANDARD
TZOFFSETFROM:-0400
TZOFFSETTO:-0500
TZNAME:EST
DTSTART:20251102T060000
END:STANDARD
END:VTIMEZONE
BEGIN:VEVENT
DTSTART;TZID=America/New_York:20240621T180000
DTEND;TZID=America/New_York:20240621T210000
DTSTAMP:20260421T235625
CREATED:20240424T155420Z
LAST-MODIFIED:20240424T162813Z
UID:3501-1718992800-1719003600@kelloggarena.com
SUMMARY:Friday Night Market - Caribbean Night
DESCRIPTION:Join us for the island vibes at Caribbean Night at the Battle Creek Farmers Market! Featuring farm vendors\, craft vendors\, food trucks and live music by Universal Xpression! \nJune 21\, 2024 from 6pm-9pm! \nFood truck and vendor info coming soon! \nFREE ADMISSION \nVendor Registration Form
URL:https://kelloggarena.com/event/friday-night-market/
LOCATION:Festival Market Square\, 25 McCamly St S\,\, Battle Creek\, Michigan\, 49017\, United States
CATEGORIES:Arena Events,Family Friendly,Farmers Market,Food Truck Friday's,Summer Series
ATTACH;FMTTYPE=image/png:https://kelloggarena.com/wp-content/uploads/2024/04/Website-Event-Images-40.png
END:VEVENT
END:VCALENDAR