BEGIN:VCALENDAR
VERSION:2.0
PRODID:-//Kellogg Arena - ECPv6.15.18//NONSGML v1.0//EN
CALSCALE:GREGORIAN
METHOD:PUBLISH
X-WR-CALNAME:Kellogg Arena
X-ORIGINAL-URL:https://kelloggarena.com
X-WR-CALDESC:Events for Kellogg Arena
REFRESH-INTERVAL;VALUE=DURATION:PT1H
X-Robots-Tag:noindex
X-PUBLISHED-TTL:PT1H
BEGIN:VTIMEZONE
TZID:America/New_York
BEGIN:DAYLIGHT
TZOFFSETFROM:-0500
TZOFFSETTO:-0400
TZNAME:EDT
DTSTART:20220313T070000
END:DAYLIGHT
BEGIN:STANDARD
TZOFFSETFROM:-0400
TZOFFSETTO:-0500
TZNAME:EST
DTSTART:20221106T060000
END:STANDARD
BEGIN:DAYLIGHT
TZOFFSETFROM:-0500
TZOFFSETTO:-0400
TZNAME:EDT
DTSTART:20230312T070000
END:DAYLIGHT
BEGIN:STANDARD
TZOFFSETFROM:-0400
TZOFFSETTO:-0500
TZNAME:EST
DTSTART:20231105T060000
END:STANDARD
BEGIN:DAYLIGHT
TZOFFSETFROM:-0500
TZOFFSETTO:-0400
TZNAME:EDT
DTSTART:20240310T070000
END:DAYLIGHT
BEGIN:STANDARD
TZOFFSETFROM:-0400
TZOFFSETTO:-0500
TZNAME:EST
DTSTART:20241103T060000
END:STANDARD
END:VTIMEZONE
BEGIN:VEVENT
DTSTART;TZID=America/New_York:20230612T160000
DTEND;TZID=America/New_York:20230612T190000
DTSTAMP:20260422T212550
CREATED:20230608T155817Z
LAST-MODIFIED:20230608T160244Z
UID:2814-1686585600-1686596400@kelloggarena.com
SUMMARY:Monday Night Market
DESCRIPTION:In an attempt to make fresh food available downtown for all of our residents\, we’re excited to announce the addition of our Monday Night Markets at Festival Market Square this year! Interested in becoming a vendor? Apply https://forms.gle/NqbwfjrFmhNUP9wJA \nWe can’t wait to see you this coming Monday\, June 12th for our very first Monday Night Market!\nFREE Admission\nMusic by LaSoulful Rock\nVENDORS June 12th \n\n\n\n\n\nBeth Resau – Renewal by Andersen\n\n\nLazy Animal Farm\n\n\nAuxo – Beyond Plants\n\n\nCreated Treasures\, LLC\n\n\nFox’s Pizza Den on Location\n\n\nThe Slaughtered Pumpkin\n\n\nSerenity Farmz LLC\n\n\nPurple Phoenix Resin Crafts\, LLC\n\n\nDirty Vegan LLC
URL:https://kelloggarena.com/event/monday-night-market/
LOCATION:Festival Market Square\, 25 McCamly St S\,\, Battle Creek\, Michigan\, 49017\, United States
CATEGORIES:Farmers Market,Summer Series
ATTACH;FMTTYPE=image/jpeg:https://kelloggarena.com/wp-content/uploads/2023/06/Website-Image-1.jpg
END:VEVENT
END:VCALENDAR