BEGIN:VCALENDAR
VERSION:2.0
PRODID:-//Kellogg Arena - ECPv6.15.18//NONSGML v1.0//EN
CALSCALE:GREGORIAN
METHOD:PUBLISH
X-WR-CALNAME:Kellogg Arena
X-ORIGINAL-URL:https://kelloggarena.com
X-WR-CALDESC:Events for Kellogg Arena
REFRESH-INTERVAL;VALUE=DURATION:PT1H
X-Robots-Tag:noindex
X-PUBLISHED-TTL:PT1H
BEGIN:VTIMEZONE
TZID:America/New_York
BEGIN:DAYLIGHT
TZOFFSETFROM:-0500
TZOFFSETTO:-0400
TZNAME:EDT
DTSTART:20220313T070000
END:DAYLIGHT
BEGIN:STANDARD
TZOFFSETFROM:-0400
TZOFFSETTO:-0500
TZNAME:EST
DTSTART:20221106T060000
END:STANDARD
BEGIN:DAYLIGHT
TZOFFSETFROM:-0500
TZOFFSETTO:-0400
TZNAME:EDT
DTSTART:20230312T070000
END:DAYLIGHT
BEGIN:STANDARD
TZOFFSETFROM:-0400
TZOFFSETTO:-0500
TZNAME:EST
DTSTART:20231105T060000
END:STANDARD
BEGIN:DAYLIGHT
TZOFFSETFROM:-0500
TZOFFSETTO:-0400
TZNAME:EDT
DTSTART:20240310T070000
END:DAYLIGHT
BEGIN:STANDARD
TZOFFSETFROM:-0400
TZOFFSETTO:-0500
TZNAME:EST
DTSTART:20241103T060000
END:STANDARD
END:VTIMEZONE
BEGIN:VEVENT
DTSTART;TZID=America/New_York:20230818T170000
DTEND;TZID=America/New_York:20230818T200000
DTSTAMP:20260422T181020
CREATED:20230807T172514Z
LAST-MODIFIED:20230807T172514Z
UID:2862-1692378000-1692388800@kelloggarena.com
SUMMARY:Friday Night Market - August 18
DESCRIPTION:Battle Creek Farmers Market vendors\, craft vendors\, food trucks and LIVE music! \nJoin us August 18 5pm – 8pm \nCommunity Corn Roast $2 an ear \nMusic by Project 90 \nFood Trucks – The Missing Link & PB & J’s \nFREE ADMISSION
URL:https://kelloggarena.com/event/friday-night-market-august-18/
LOCATION:Festival Market Square\, 25 McCamly St S\,\, Battle Creek\, Michigan\, 49017\, United States
CATEGORIES:Farmers Market
ATTACH;FMTTYPE=image/jpeg:https://kelloggarena.com/wp-content/uploads/2023/08/Screenshot-2023-08-07-132045.jpg
END:VEVENT
END:VCALENDAR