BEGIN:VCALENDAR
VERSION:2.0
PRODID:-//Kellogg Arena - ECPv6.15.18//NONSGML v1.0//EN
CALSCALE:GREGORIAN
METHOD:PUBLISH
X-ORIGINAL-URL:https://kelloggarena.com
X-WR-CALDESC:Events for Kellogg Arena
REFRESH-INTERVAL;VALUE=DURATION:PT1H
X-Robots-Tag:noindex
X-PUBLISHED-TTL:PT1H
BEGIN:VTIMEZONE
TZID:America/New_York
BEGIN:DAYLIGHT
TZOFFSETFROM:-0500
TZOFFSETTO:-0400
TZNAME:EDT
DTSTART:20220313T070000
END:DAYLIGHT
BEGIN:STANDARD
TZOFFSETFROM:-0400
TZOFFSETTO:-0500
TZNAME:EST
DTSTART:20221106T060000
END:STANDARD
BEGIN:DAYLIGHT
TZOFFSETFROM:-0500
TZOFFSETTO:-0400
TZNAME:EDT
DTSTART:20230312T070000
END:DAYLIGHT
BEGIN:STANDARD
TZOFFSETFROM:-0400
TZOFFSETTO:-0500
TZNAME:EST
DTSTART:20231105T060000
END:STANDARD
BEGIN:DAYLIGHT
TZOFFSETFROM:-0500
TZOFFSETTO:-0400
TZNAME:EDT
DTSTART:20240310T070000
END:DAYLIGHT
BEGIN:STANDARD
TZOFFSETFROM:-0400
TZOFFSETTO:-0500
TZNAME:EST
DTSTART:20241103T060000
END:STANDARD
END:VTIMEZONE
BEGIN:VEVENT
DTSTART;TZID=America/New_York:20230507T100000
DTEND;TZID=America/New_York:20230507T160000
DTSTAMP:20260422T234702
CREATED:20230201T155532Z
LAST-MODIFIED:20230414T125231Z
UID:2575-1683453600-1683475200@kelloggarena.com
SUMMARY:Finders Keepers Vintage Market
DESCRIPTION:Come spend the day with Finders Keepers Vintage Market exploring the hundred + vendors set up at each market. We offer everything from chippy\, gathered\, repurposed\, found\, rusty\, re-loved\, farmhouse decor\, trendy boutique clothing\, hand poured candles\, upscale handmade\, painted and hand built furniture\, handcrafted jewelry\, fresh flowers\, yummy sweets\, live music\, delicious food trucks & local shopping all in one place! \nEvery market offers a unique vibe and extremely talented vendors! Come visit our charming market and meet the hardworking faces behind the businesses we support and are happy to call family! \nInterested in being a vendor at one of our markets? Great! click here to learn more. \nTicket information coming soon! \nThis event will take place inside the Kellogg Arena and outside at Festival Market Square \nFor more information visit Finders Keepers Vintage Market – blog
URL:https://kelloggarena.com/event/finders-keepers-vintage-market/
LOCATION:Kellogg Arena\, 1 McCamly Sqaure\, Battle Creek\, MI\, 49017\, United States
CATEGORIES:Arena Events,Family Friendly,Summer Series
ATTACH;FMTTYPE=image/jpeg:https://kelloggarena.com/wp-content/uploads/2023/02/Website-Image.jpg
END:VEVENT
END:VCALENDAR