BEGIN:VCALENDAR
VERSION:2.0
PRODID:-//Kellogg Arena - ECPv6.15.18//NONSGML v1.0//EN
CALSCALE:GREGORIAN
METHOD:PUBLISH
X-WR-CALNAME:Kellogg Arena
X-ORIGINAL-URL:https://kelloggarena.com
X-WR-CALDESC:Events for Kellogg Arena
REFRESH-INTERVAL;VALUE=DURATION:PT1H
X-Robots-Tag:noindex
X-PUBLISHED-TTL:PT1H
BEGIN:VTIMEZONE
TZID:America/New_York
BEGIN:DAYLIGHT
TZOFFSETFROM:-0500
TZOFFSETTO:-0400
TZNAME:EDT
DTSTART:20180311T070000
END:DAYLIGHT
BEGIN:STANDARD
TZOFFSETFROM:-0400
TZOFFSETTO:-0500
TZNAME:EST
DTSTART:20181104T060000
END:STANDARD
BEGIN:DAYLIGHT
TZOFFSETFROM:-0500
TZOFFSETTO:-0400
TZNAME:EDT
DTSTART:20190310T070000
END:DAYLIGHT
BEGIN:STANDARD
TZOFFSETFROM:-0400
TZOFFSETTO:-0500
TZNAME:EST
DTSTART:20191103T060000
END:STANDARD
BEGIN:DAYLIGHT
TZOFFSETFROM:-0500
TZOFFSETTO:-0400
TZNAME:EDT
DTSTART:20200308T070000
END:DAYLIGHT
BEGIN:STANDARD
TZOFFSETFROM:-0400
TZOFFSETTO:-0500
TZNAME:EST
DTSTART:20201101T060000
END:STANDARD
END:VTIMEZONE
BEGIN:VEVENT
DTSTART;TZID=America/New_York:20191212T120000
DTEND;TZID=America/New_York:20191212T210000
DTSTAMP:20260423T230017
CREATED:20191030T154522Z
LAST-MODIFIED:20191206T195127Z
UID:249-1576152000-1576184400@kelloggarena.com
SUMMARY:FIRST Tech Challenge - State Championships
DESCRIPTION:Student teams\, guided by coaches and mentors\, create a robot to compete in a FIRST designed game on a 12’x12′ playing field. This championship is a celebration of the season and a chance for teams to engage in the fun and excitement of competition. Awards are presented for robot build\, design\, and performance as well as for community outreach and other real world accomplishments.
URL:https://kelloggarena.com/event/first-tech-challenge-state-championships/2019-12-12/
LOCATION:Kellogg Arena\, 1 McCamly Sqaure\, Battle Creek\, MI\, 49017\, United States
CATEGORIES:Arena Events,Family Friendly
ATTACH;FMTTYPE=image/png:https://kelloggarena.com/wp-content/uploads/2019/10/first-mi-logo.png
END:VEVENT
BEGIN:VEVENT
DTSTART;TZID=America/New_York:20191231T210000
DTEND;TZID=America/New_York:20191231T210000
DTSTAMP:20260423T230017
CREATED:20191113T203223Z
LAST-MODIFIED:20191211T200925Z
UID:432-1577826000-1577826000@kelloggarena.com
SUMMARY:New Year's Eve Pow Wow
DESCRIPTION:
URL:https://kelloggarena.com/event/new-years-eve-pow-wow/
LOCATION:Kellogg Arena\, 1 McCamly Sqaure\, Battle Creek\, MI\, 49017\, United States
CATEGORIES:Arena Events,Family Friendly
ATTACH;FMTTYPE=image/jpeg:https://kelloggarena.com/wp-content/uploads/2019/11/nye-pow-wow.jpg
END:VEVENT
END:VCALENDAR