BEGIN:VCALENDAR
VERSION:2.0
PRODID:-//Kellogg Arena - ECPv6.15.18//NONSGML v1.0//EN
CALSCALE:GREGORIAN
METHOD:PUBLISH
X-ORIGINAL-URL:https://kelloggarena.com
X-WR-CALDESC:Events for Kellogg Arena
REFRESH-INTERVAL;VALUE=DURATION:PT1H
X-Robots-Tag:noindex
X-PUBLISHED-TTL:PT1H
BEGIN:VTIMEZONE
TZID:America/New_York
BEGIN:DAYLIGHT
TZOFFSETFROM:-0500
TZOFFSETTO:-0400
TZNAME:EDT
DTSTART:20210314T070000
END:DAYLIGHT
BEGIN:STANDARD
TZOFFSETFROM:-0400
TZOFFSETTO:-0500
TZNAME:EST
DTSTART:20211107T060000
END:STANDARD
BEGIN:DAYLIGHT
TZOFFSETFROM:-0500
TZOFFSETTO:-0400
TZNAME:EDT
DTSTART:20220313T070000
END:DAYLIGHT
BEGIN:STANDARD
TZOFFSETFROM:-0400
TZOFFSETTO:-0500
TZNAME:EST
DTSTART:20221106T060000
END:STANDARD
BEGIN:DAYLIGHT
TZOFFSETFROM:-0500
TZOFFSETTO:-0400
TZNAME:EDT
DTSTART:20230312T070000
END:DAYLIGHT
BEGIN:STANDARD
TZOFFSETFROM:-0400
TZOFFSETTO:-0500
TZNAME:EST
DTSTART:20231105T060000
END:STANDARD
END:VTIMEZONE
BEGIN:VEVENT
DTSTART;TZID=America/New_York:20220426T140000
DTEND;TZID=America/New_York:20220426T173000
DTSTAMP:20260421T221905
CREATED:20220308T184958Z
LAST-MODIFIED:20220308T184958Z
UID:1827-1650981600-1650994200@kelloggarena.com
SUMMARY:44th Annual GLS IFT Suppliers Day 2022
DESCRIPTION:Check out the latest in new products and services in the food and beverage industry. \n\n\nTuesday\, April 26\, 2022\nKellogg Arena\n36 Hamblin Ave\nBattle Creek\, MI 49017\n2022 Suppliers’ Expo | Great Lakes Section IFT (greatlakesift.org) \nFree admission and door prizes! \n\n\nDay-at-a-Glance\n11:00 AM – 1:00 PM Optional Speaker Opportunities\n2:00 – 5:30 PM Suppliers’ Expo\n6:00 PM The After Party – Record Box Loft
URL:https://kelloggarena.com/event/44th-annual-gls-ift-suppliers-day-2022/
LOCATION:Kellogg Arena\, 1 McCamly Sqaure\, Battle Creek\, MI\, 49017\, United States
CATEGORIES:Arena Events,Expos
ATTACH;FMTTYPE=image/jpeg:https://kelloggarena.com/wp-content/uploads/2022/03/IFT-Image.jpg
END:VEVENT
END:VCALENDAR