BEGIN:VCALENDAR
VERSION:2.0
PRODID:-//Kellogg Arena - ECPv6.15.18//NONSGML v1.0//EN
CALSCALE:GREGORIAN
METHOD:PUBLISH
X-WR-CALNAME:Kellogg Arena
X-ORIGINAL-URL:https://kelloggarena.com
X-WR-CALDESC:Events for Kellogg Arena
REFRESH-INTERVAL;VALUE=DURATION:PT1H
X-Robots-Tag:noindex
X-PUBLISHED-TTL:PT1H
BEGIN:VTIMEZONE
TZID:America/New_York
BEGIN:DAYLIGHT
TZOFFSETFROM:-0500
TZOFFSETTO:-0400
TZNAME:EDT
DTSTART:20240310T070000
END:DAYLIGHT
BEGIN:STANDARD
TZOFFSETFROM:-0400
TZOFFSETTO:-0500
TZNAME:EST
DTSTART:20241103T060000
END:STANDARD
BEGIN:DAYLIGHT
TZOFFSETFROM:-0500
TZOFFSETTO:-0400
TZNAME:EDT
DTSTART:20250309T070000
END:DAYLIGHT
BEGIN:STANDARD
TZOFFSETFROM:-0400
TZOFFSETTO:-0500
TZNAME:EST
DTSTART:20251102T060000
END:STANDARD
BEGIN:DAYLIGHT
TZOFFSETFROM:-0500
TZOFFSETTO:-0400
TZNAME:EDT
DTSTART:20260308T070000
END:DAYLIGHT
BEGIN:STANDARD
TZOFFSETFROM:-0400
TZOFFSETTO:-0500
TZNAME:EST
DTSTART:20261101T060000
END:STANDARD
END:VTIMEZONE
BEGIN:VEVENT
DTSTART;TZID=America/New_York:20250609T080000
DTEND;TZID=America/New_York:20250613T200000
DTSTAMP:20260421T063034
CREATED:20250221T193001Z
LAST-MODIFIED:20250221T193001Z
UID:4264-1749456000-1749844800@kelloggarena.com
SUMMARY:Cyber Truck Challenge
DESCRIPTION:The CyberTruck Challenge is a premier event to bring together a community of interest related to heavy vehicle cybersecurity issues and develop talent to address those challenges. \nAll students and mentors must pre-register by March 31\, 2025 in order to attend. Information can be found at HERE.
URL:https://kelloggarena.com/event/cyber-truck-challenge/
LOCATION:Kellogg Arena\, 1 McCamly Sqaure\, Battle Creek\, MI\, 49017\, United States
CATEGORIES:Arena Events,Conventions,Expos
ATTACH;FMTTYPE=image/png:https://kelloggarena.com/wp-content/uploads/2025/02/Website-Event-Images-122.png
END:VEVENT
BEGIN:VEVENT
DTSTART;TZID=America/New_York:20250621T200000
DTEND;TZID=America/New_York:20250621T233000
DTSTAMP:20260421T063034
CREATED:20250529T172522Z
LAST-MODIFIED:20250619T133318Z
UID:4718-1750536000-1750548600@kelloggarena.com
SUMMARY:2025 Ballerz Gala
DESCRIPTION:*THIS EVENT HAS BEEN CANCELLED. PLEASE CONTACT THE PROMOTER DIRECTLY WITH ANY QUESTIONS*\n\nContact: L.E. Johnson II\, EdD (lesterej@eejc.org)\n\n\n———————————————————————————————————————————————————–\n\nThe runway is calling.  Get ready for a show-stopping fashion moment from Louie Jones of Crowned Royalty at the Ballerz Gala.\n\n\nFrom bold looks to blinged-out statements\, this is your chance to see style and creativity take center stage.\n\n\nFeaturing the 50/50 Crowd Funding Business Competition\, a LIVE band performance by Gabriel Brass Band\, DAJA EXCEL \, and a fashion show by Louie Jones of Crowned Royalty.
URL:https://kelloggarena.com/event/2025-ballerz-gala/
LOCATION:Kellogg Arena\, 1 McCamly Sqaure\, Battle Creek\, MI\, 49017\, United States
CATEGORIES:Arena Events,Conventions,Music
ATTACH;FMTTYPE=image/png:https://kelloggarena.com/wp-content/uploads/2025/05/Website-Event-Images-149.png
END:VEVENT
BEGIN:VEVENT
DTSTART;TZID=America/New_York:20250628T120000
DTEND;TZID=America/New_York:20250628T190000
DTSTAMP:20260421T063034
CREATED:20250613T192510Z
LAST-MODIFIED:20250627T192029Z
UID:4773-1751112000-1751137200@kelloggarena.com
SUMMARY:Battle Cancer Jeep Jam
DESCRIPTION:Join us at Battle Creek Festival Market Square for a powerful day of awareness\, support\, and community as we come together to fight against cancer. This event is dedicated to honoring survivors\, supporting those currently battling cancer\, and remembering loved ones we’ve lost. \nEnjoy a day filled with inspiring speakers\, live music\, wellness activities\, local vendors\, and family-friendly entertainment. Participate in interactive awareness booths\, learn about early detection and prevention\, and connect with local organizations providing valuable resources. \nWhether you’re walking in honor of a loved one\, seeking support\, or simply looking to make a difference\, your presence matters. Together\, we can raise awareness\, inspire hope\, and work toward a future without cancer. \nVendors: \nKurbside Food Truck\nAshyLeggs – BBQ\nChiller Thriller – Ice Cream\nGovier Family Farm LLC – Farmstand\, treats and lemonade\nAbi’s Lemonade\nDavid Praim and KI Tang Soo Do Foundation\nOlivia Moffett Bellame Skincare\nBirds and Beaks Rescue\nALURT Dive and Rescue\nRescue dogs of Michigan\nInvigorating Touch Massage\nPitbull Graphics\nCrystal Forest – jewelry and gifts\nAlexander the Magician\nA&A Sweets and Treats\nJack Nuts\nTifftastic Salon\nNot Just Bubbles\nHair Wraps by Jenna Roo\nBrittany Brumfield – Face Painting \nMusic: \nDruid Drummer\nLaSoulful Rock\nBlue Back\nRock RX \nSponsors & Donors: \nOne Nation\nLucky Rooster\nRegional Concrete\nGatu AFC\nGothberg Industries\nHope AFC\nJoanne AFC\nLundberg Construction\nPepsi Co\nRoof Sharks\n4KFlowers\nFlexN Motorsports\nRadiant Star AFC\nHenkel Auto Group Jeep\nBarth Beasley \nhttps://battlecancerbc.org \ninfo@battlecancerbc.com
URL:https://kelloggarena.com/event/battle-cancer-jeep-jam/
LOCATION:Festival Market Square\, 25 McCamly St S\,\, Battle Creek\, Michigan\, 49017\, United States
CATEGORIES:Arena Events,Conventions,Family Friendly,Music,Seminars
ATTACH;FMTTYPE=image/png:https://kelloggarena.com/wp-content/uploads/2025/06/Website-Event-Images-150.png
END:VEVENT
END:VCALENDAR