BEGIN:VCALENDAR
VERSION:2.0
PRODID:-//Kellogg Arena - ECPv6.15.18//NONSGML v1.0//EN
CALSCALE:GREGORIAN
METHOD:PUBLISH
X-ORIGINAL-URL:https://kelloggarena.com
X-WR-CALDESC:Events for Kellogg Arena
REFRESH-INTERVAL;VALUE=DURATION:PT1H
X-Robots-Tag:noindex
X-PUBLISHED-TTL:PT1H
BEGIN:VTIMEZONE
TZID:America/New_York
BEGIN:DAYLIGHT
TZOFFSETFROM:-0500
TZOFFSETTO:-0400
TZNAME:EDT
DTSTART:20240310T070000
END:DAYLIGHT
BEGIN:STANDARD
TZOFFSETFROM:-0400
TZOFFSETTO:-0500
TZNAME:EST
DTSTART:20241103T060000
END:STANDARD
BEGIN:DAYLIGHT
TZOFFSETFROM:-0500
TZOFFSETTO:-0400
TZNAME:EDT
DTSTART:20250309T070000
END:DAYLIGHT
BEGIN:STANDARD
TZOFFSETFROM:-0400
TZOFFSETTO:-0500
TZNAME:EST
DTSTART:20251102T060000
END:STANDARD
BEGIN:DAYLIGHT
TZOFFSETFROM:-0500
TZOFFSETTO:-0400
TZNAME:EDT
DTSTART:20260308T070000
END:DAYLIGHT
BEGIN:STANDARD
TZOFFSETFROM:-0400
TZOFFSETTO:-0500
TZNAME:EST
DTSTART:20261101T060000
END:STANDARD
END:VTIMEZONE
BEGIN:VEVENT
DTSTART;TZID=America/New_York:20250531T160000
DTEND;TZID=America/New_York:20250531T210000
DTSTAMP:20260421T080628
CREATED:20250220T182124Z
LAST-MODIFIED:20250506T211017Z
UID:4253-1748707200-1748725200@kelloggarena.com
SUMMARY:Summer Breeze Community Fundraiser
DESCRIPTION:Join us at Festival Market Square for this family friendly event! \nSummer Breeze is a fundraising and economic development event hosted by Battle Creek Delta Sigma Theta Alumnae Chapter. This outdoor event will feature vendors\, food trucks\, jazz and R&B bands\, raffles\, line dancing\, a college information booth\, a wellness booth and more! \nEvent will be held May 31\, 2025. 4pm-9pm\, at The Festival Market Square: 25 McCamly St\, Battle Creek\, MI 49017. \n \n\n\nVENDOR INFORMATION: \nYour participation would be a $50 cost to you and is greatly appreciated by our community service organization. \nAt the festival\, vendors under the pavilion would have access to a 10X10 space\, electric outlets\, 1 table and 2 chairs.  All truck vendors would have curbside space on either of the two facing streets closed for the event.  You can provide any information or sell any products related to your business. \nIf you are interested in participating or have any questions\, please inquire by phone\, text or email with your name\, business name\, email and phone number. \nContact: DSTSFundraising@gmail.com or 269-317-2508.
URL:https://kelloggarena.com/event/summer-breeze-community-fundraiser/
LOCATION:Festival Market Square\, 25 McCamly St S\,\, Battle Creek\, Michigan\, 49017\, United States
CATEGORIES:Arena Events,Conventions,Expos,Family Friendly,Festivals,Music,Summer Series
END:VEVENT
END:VCALENDAR