BEGIN:VCALENDAR
VERSION:2.0
PRODID:-//Kellogg Arena - ECPv6.15.18//NONSGML v1.0//EN
CALSCALE:GREGORIAN
METHOD:PUBLISH
X-ORIGINAL-URL:https://kelloggarena.com
X-WR-CALDESC:Events for Kellogg Arena
REFRESH-INTERVAL;VALUE=DURATION:PT1H
X-Robots-Tag:noindex
X-PUBLISHED-TTL:PT1H
BEGIN:VTIMEZONE
TZID:America/New_York
BEGIN:DAYLIGHT
TZOFFSETFROM:-0500
TZOFFSETTO:-0400
TZNAME:EDT
DTSTART:20240310T070000
END:DAYLIGHT
BEGIN:STANDARD
TZOFFSETFROM:-0400
TZOFFSETTO:-0500
TZNAME:EST
DTSTART:20241103T060000
END:STANDARD
BEGIN:DAYLIGHT
TZOFFSETFROM:-0500
TZOFFSETTO:-0400
TZNAME:EDT
DTSTART:20250309T070000
END:DAYLIGHT
BEGIN:STANDARD
TZOFFSETFROM:-0400
TZOFFSETTO:-0500
TZNAME:EST
DTSTART:20251102T060000
END:STANDARD
BEGIN:DAYLIGHT
TZOFFSETFROM:-0500
TZOFFSETTO:-0400
TZNAME:EDT
DTSTART:20260308T070000
END:DAYLIGHT
BEGIN:STANDARD
TZOFFSETFROM:-0400
TZOFFSETTO:-0500
TZNAME:EST
DTSTART:20261101T060000
END:STANDARD
END:VTIMEZONE
BEGIN:VEVENT
DTSTART;TZID=America/New_York:20250404T120000
DTEND;TZID=America/New_York:20250404T180000
DTSTAMP:20260421T110309
CREATED:20241122T001428Z
LAST-MODIFIED:20250313T190640Z
UID:4034-1743768000-1743789600@kelloggarena.com
SUMMARY:Master Spas Expo
DESCRIPTION:*NO OUTSIDE FOOD OR BEVERAGE ALLOWED* \nExplore premier spas and hot tubs. Relax\, it’s Master Spas. \nWhen: April 4th – 6th\, 2025\nFriday: 12PM – 6PM\, Saturday: 11AM – 6PM\, Sunday: 11AM – 4PM \nWhere: Kellogg Arena\n1 McCamly Square\, McCamly St S\, Battle Creek\, MI 49017 \nFree Admission \nParking is available in the Hamblin Ave. parking ramp (connected to the Kellogg Arena.) Other Downtown Battle Creek parking structures and street parking are also available\, prices vary per structure. \n  \nSale Offers: $1 Million+ of Inventory \n\nRegions’ Largest Selection. Up to 50% off!\nFloor models available for instant delivery (see store for details)\n$500 to $1\,000 Off Select Spas (MSRP)\n$1\,000 to $2\,500 Off Swim Spas\n\nFinancing Options: \n\n\n\nOn-site financing on approved credit (OAC)\n\n\n\nFree Delivery & Setup: \n\nDelivery\, Setup\, and Chemicals Included\nLarge Selection\, Fast Deliveries\, and In-Stock Now!\n\nWill trash/haul away old spa/hot tub for small fee
URL:https://kelloggarena.com/event/master-spa-expo/
LOCATION:Kellogg Arena\, 1 McCamly Sqaure\, Battle Creek\, MI\, 49017\, United States
CATEGORIES:Arena Events,Conventions,Expos,Family Friendly
ATTACH;FMTTYPE=image/png:https://kelloggarena.com/wp-content/uploads/2024/11/Website-Event-Images-95.png
END:VEVENT
BEGIN:VEVENT
DTSTART;TZID=America/New_York:20250425T080000
DTEND;TZID=America/New_York:20250426T170000
DTSTAMP:20260421T110309
CREATED:20250220T180622Z
LAST-MODIFIED:20250220T180623Z
UID:4249-1745568000-1745686800@kelloggarena.com
SUMMARY:Seventh-Day Adventist Church - Pathfinder Bible Experience
DESCRIPTION:The Pathfinder Bible Experience (PBE) is a team challenge that focuses on immersion in the Word of God. The PBE is the official North American Division Pathfinder Bible study program. Each year\, teams of six club members study a book of the Bible in the New King James Version\, Pathfinder Edition\, memorizing large portions of God’s word. \nThe Pathfinder Club\, or simply Pathfinders\, is a department of the Seventh-Day Adventist Church\, which works specifically with the cultural\, social\, and religious education of children and teens. Boys and girls ages 10 and up are members of the club all over the world. \nThis is a no-cost\, family friendly event open to the public.
URL:https://kelloggarena.com/event/seventh-day-adventist-church-pathfinder-bible-experience/
LOCATION:Kellogg Arena\, 1 McCamly Sqaure\, Battle Creek\, MI\, 49017\, United States
CATEGORIES:Arena Events,Conventions,Family Friendly,Seminars
ATTACH;FMTTYPE=image/png:https://kelloggarena.com/wp-content/uploads/2025/02/Website-Event-Images-118.png
END:VEVENT
END:VCALENDAR