BEGIN:VCALENDAR
VERSION:2.0
PRODID:-//Kellogg Arena - ECPv6.15.18//NONSGML v1.0//EN
CALSCALE:GREGORIAN
METHOD:PUBLISH
X-WR-CALNAME:Kellogg Arena
X-ORIGINAL-URL:https://kelloggarena.com
X-WR-CALDESC:Events for Kellogg Arena
REFRESH-INTERVAL;VALUE=DURATION:PT1H
X-Robots-Tag:noindex
X-PUBLISHED-TTL:PT1H
BEGIN:VTIMEZONE
TZID:America/New_York
BEGIN:DAYLIGHT
TZOFFSETFROM:-0500
TZOFFSETTO:-0400
TZNAME:EDT
DTSTART:20230312T070000
END:DAYLIGHT
BEGIN:STANDARD
TZOFFSETFROM:-0400
TZOFFSETTO:-0500
TZNAME:EST
DTSTART:20231105T060000
END:STANDARD
BEGIN:DAYLIGHT
TZOFFSETFROM:-0500
TZOFFSETTO:-0400
TZNAME:EDT
DTSTART:20240310T070000
END:DAYLIGHT
BEGIN:STANDARD
TZOFFSETFROM:-0400
TZOFFSETTO:-0500
TZNAME:EST
DTSTART:20241103T060000
END:STANDARD
BEGIN:DAYLIGHT
TZOFFSETFROM:-0500
TZOFFSETTO:-0400
TZNAME:EDT
DTSTART:20250309T070000
END:DAYLIGHT
BEGIN:STANDARD
TZOFFSETFROM:-0400
TZOFFSETTO:-0500
TZNAME:EST
DTSTART:20251102T060000
END:STANDARD
BEGIN:DAYLIGHT
TZOFFSETFROM:-0500
TZOFFSETTO:-0400
TZNAME:EDT
DTSTART:20260308T070000
END:DAYLIGHT
BEGIN:STANDARD
TZOFFSETFROM:-0400
TZOFFSETTO:-0500
TZNAME:EST
DTSTART:20261101T060000
END:STANDARD
END:VTIMEZONE
BEGIN:VEVENT
DTSTART;TZID=America/New_York:20241231T143000
DTEND;TZID=America/New_York:20250101T010000
DTSTAMP:20260421T141253
CREATED:20240826T184545Z
LAST-MODIFIED:20241202T185959Z
UID:3874-1735655400-1735693200@kelloggarena.com
SUMMARY:NHBP NYE Sobriety Pow-Wow
DESCRIPTION:Mark your calendars now for the upcoming New Year’s Eve Sobriety Pow Wow as we celebrate the endurance of our People! This year’s Pow Wow will kick off with a Rip the Runway Fashion Show in honor of the Every Child Matters movement. We look forward to celebrating and honoring sobriety in our Community\, one step at a time.  This event is FREE admission and open to the public!\n\n\n\nSchedule \n\n\n2:30 PM | Doors Open for Fashion Show Only\n3:30 – 4:30 PM | Native Fashion Show\n7:00 PM | Grand Entry\n9:30 PM | Sobriety Honor and Give-A-Way\n11:55 PM | New Year’s Eve Countdown\n\n\n\nAll vendors and participants must have Tribal IDs. Spectators are the only group not required to have one. \n\n\n\nFashion Show Participants\, please scan the QR code on the flyer or visit this link:\nhttps://form.jotform.com/242756752743162\n\n\n\nVendors\, please scan the other QR code on the flyer or visit this link:\nhttps://form.jotform.com/242763867709169\n\n\n\nDancers & Drummers are required to register in person upon arrival.\n\n\nThere is a small giveaway for participants! \n\n\n\nPlease note that if you are selected as a vendor\, we will contact you with confirmation. If you do not receive confirmation\, do not plan to attend the Pow Wow as a vendor. We still welcome your attendance as a Dancer\, Drummer\, Fashion Show Participant or just a spectator.\n\n\n\nFor vendor information\, please contact Culture Associate Jennifer Ives at 616.514.3644 or jennifer.ives@nhbp-nsn.gov.\n\n\n\nFor general information\, please contact NHBP Culture Specialist Kevin Harris II at 269.832.8331 or kevin.harrisII@nhbp-nsn.gov.\n\n 
URL:https://kelloggarena.com/event/nhbp-nye-pow-wow/
LOCATION:Kellogg Arena\, 1 McCamly Sqaure\, Battle Creek\, MI\, 49017\, United States
CATEGORIES:Arena Events,Conventions,Family Friendly,Music,Seminars
ATTACH;FMTTYPE=image/png:https://kelloggarena.com/wp-content/uploads/2024/08/Website-Event-Images-93.png
END:VEVENT
BEGIN:VEVENT
DTSTART;TZID=America/New_York:20250116T000000
DTEND;TZID=America/New_York:20250116T000000
DTSTAMP:20260421T141253
CREATED:20250116T190915Z
LAST-MODIFIED:20250116T191017Z
UID:4047-1736985600-1736985600@kelloggarena.com
SUMMARY:The Dreamers Ball
DESCRIPTION:The Village Network of Battle Creek\, The Battle Creek Community Foundation\, and the Nonprofit Network hosts\, in collaboration\, The Dreamers Ball. \nA collective mission to support the capacity and sustainability of nonprofits in Battle Creek brings together this partnership In an effort to seed a BIPOC Battle Creek Endowment Collaborative pilot. \nThe Nonprofit Network has been strategically supporting BIPOC Battle Creek nonprofit leaders over the past two years; The Battle Creek Community Foundation has been supporting community driven mission endowments for the past 50 years; The Village Network of Battle Creek has been organizing nonprofit organizations since its 2019 inception. Collectively\, by supporting the solicitation of sponsors and partners\, the investments into the Annual MLK Day Event—The Dreamers Ball—will seed the endowments of participating partners\, creating the conditions for their long-term sustainability. \n Tickets: Starting at $5 per person \nFor more information visit: \nhttps://bccfoundation.fcsuite.com/erp/donate/list/event?event_date_id=6709 \nOR CONTACT \nDr. Crain 517-796-4750 or email crystallee@nonprofnetwork.org\nOr\nDr. Johnson 269-578-3141 or email mail@thevillagenetworkbc.com \n  \n 
URL:https://kelloggarena.com/event/the-dreamers-ball/
LOCATION:MI
CATEGORIES:Arena Events,Conventions,Expos,Family Friendly,Seminars
ATTACH;FMTTYPE=image/png:https://kelloggarena.com/wp-content/uploads/2025/01/Website-Event-Images-109.png
END:VEVENT
END:VCALENDAR