BEGIN:VCALENDAR
VERSION:2.0
PRODID:-//Kellogg Arena - ECPv6.15.18//NONSGML v1.0//EN
CALSCALE:GREGORIAN
METHOD:PUBLISH
X-WR-CALNAME:Kellogg Arena
X-ORIGINAL-URL:https://kelloggarena.com
X-WR-CALDESC:Events for Kellogg Arena
REFRESH-INTERVAL;VALUE=DURATION:PT1H
X-Robots-Tag:noindex
X-PUBLISHED-TTL:PT1H
BEGIN:VTIMEZONE
TZID:America/New_York
BEGIN:DAYLIGHT
TZOFFSETFROM:-0500
TZOFFSETTO:-0400
TZNAME:EDT
DTSTART:20230312T070000
END:DAYLIGHT
BEGIN:STANDARD
TZOFFSETFROM:-0400
TZOFFSETTO:-0500
TZNAME:EST
DTSTART:20231105T060000
END:STANDARD
BEGIN:DAYLIGHT
TZOFFSETFROM:-0500
TZOFFSETTO:-0400
TZNAME:EDT
DTSTART:20240310T070000
END:DAYLIGHT
BEGIN:STANDARD
TZOFFSETFROM:-0400
TZOFFSETTO:-0500
TZNAME:EST
DTSTART:20241103T060000
END:STANDARD
BEGIN:DAYLIGHT
TZOFFSETFROM:-0500
TZOFFSETTO:-0400
TZNAME:EDT
DTSTART:20250309T070000
END:DAYLIGHT
BEGIN:STANDARD
TZOFFSETFROM:-0400
TZOFFSETTO:-0500
TZNAME:EST
DTSTART:20251102T060000
END:STANDARD
END:VTIMEZONE
BEGIN:VEVENT
DTSTART;TZID=America/New_York:20240509T190000
DTEND;TZID=America/New_York:20240509T210000
DTSTAMP:20260422T044834
CREATED:20240228T023037Z
LAST-MODIFIED:20240228T023037Z
UID:3292-1715281200-1715288400@kelloggarena.com
SUMMARY:Kellogg Community College Graduation
DESCRIPTION:For the most up to date information visit https://kellogg.edu/ \nFree admission\, no ticket required. Doors at 6pm.
URL:https://kelloggarena.com/event/kellogg-community-college-graduation-3/
LOCATION:Kellogg Arena\, 1 McCamly Sqaure\, Battle Creek\, MI\, 49017\, United States
CATEGORIES:Arena Events,Conventions,Family Friendly
ATTACH;FMTTYPE=image/jpeg:https://kelloggarena.com/wp-content/uploads/2022/03/KCC.jpg
END:VEVENT
BEGIN:VEVENT
DTSTART;TZID=America/New_York:20240516T070000
DTEND;TZID=America/New_York:20240516T120000
DTSTAMP:20260422T044834
CREATED:20240228T025118Z
LAST-MODIFIED:20240302T214252Z
UID:3297-1715842800-1715860800@kelloggarena.com
SUMMARY:Community Prayer Breakfast
DESCRIPTION:“Greatness in You”\n The 42nd Annual Community Prayer Breakfast\nThursday\, May 16\, 2024\n7:25 AM – Kellogg Arena\, downtown Battle Creek\nTickets will go on sale March 1\, 2024\nKeynote Speaker:\nMike Singletary\nPro Football Hall of Fame Member\n\n\nLegendary Chicago Bears Linebacker\n\n\nSuper Bowl XX Champion\n\n\nCaptain of the Greatest Defense in NFL History\n\n\nNFL “Man of the Year Award” 
URL:https://kelloggarena.com/event/community-prayer-breakfast/
LOCATION:Kellogg Arena\, 1 McCamly Sqaure\, Battle Creek\, MI\, 49017\, United States
CATEGORIES:Arena Events,Conventions,Expos,Family Friendly,Seminars
ATTACH;FMTTYPE=image/jpeg:https://kelloggarena.com/wp-content/uploads/2019/11/Website-Prayer-Breakfast.jpg
END:VEVENT
BEGIN:VEVENT
DTSTART;TZID=America/New_York:20240518T100000
DTEND;TZID=America/New_York:20240518T210000
DTSTAMP:20260422T044834
CREATED:20240302T154944Z
LAST-MODIFIED:20240513T162924Z
UID:3332-1716026400-1716066000@kelloggarena.com
SUMMARY:Live From The Bull Ring 2
DESCRIPTION:LIVE FROM THE BULL RING\n\nFamily fun event to come and see some of the most EXOTIC and DESIGNER dogs in the world. Come out and have a good time and enjoy the experience with your families!\n\n\nFood\, games\, prizes and much more!\n\n\nMay 18\, 2024.\n\n\nTicketing:\n\nGENERAL ADMISSION-https://square.link/u/9WuEBnKv\n\nDOG ADMISSION-https://square.link/u/yUPp7YnT\n\n\nRegistration:\nContact Gary Watson\, topbredbullies@gmail.com\n\n\nPresented by Top Bred Bullies\n\n\nParking in Hamblin Ave. Ramp will be $5 or FREE street parking.
URL:https://kelloggarena.com/event/live-from-the-bull-ring-2024/
LOCATION:Kellogg Arena\, 1 McCamly Sqaure\, Battle Creek\, MI\, 49017\, United States
CATEGORIES:Arena Events,Conventions,Family Friendly,Music,Sporting Event
ATTACH;FMTTYPE=image/png:https://kelloggarena.com/wp-content/uploads/2024/03/Website-Event-Images-22.png
END:VEVENT
BEGIN:VEVENT
DTSTART;TZID=America/New_York:20240523T090000
DTEND;TZID=America/New_York:20240523T130000
DTSTAMP:20260422T044834
CREATED:20240302T194955Z
LAST-MODIFIED:20240302T195641Z
UID:3337-1716454800-1716469200@kelloggarena.com
SUMMARY:2024 Calhoun County Senior Expo
DESCRIPTION:FREE ADMISSION \nThe free health and information fair presented by Calhoun County Senior Services will feature more than 100 vendors providing education and services for adults age 60 and older\, along with their families and caregivers\, according to a release. The event runs from 9 a.m. to 1 p.m. Thursday\, May 23\, 2024. \nFOR VENDOR\, SPONSORSHIP & VOLUNTEER OPPORTUNITIES CONTACT:\nRebecca de Finta\nrdefinta@calhouncountymi.gov\n269-781-0846
URL:https://kelloggarena.com/event/2024-calhoun-county-senior-expo/
LOCATION:Kellogg Arena\, 1 McCamly Sqaure\, Battle Creek\, MI\, 49017\, United States
CATEGORIES:Arena Events,Conventions,Expos
ATTACH;FMTTYPE=image/png:https://kelloggarena.com/wp-content/uploads/2024/03/Website-Event-Images-24.png
END:VEVENT
END:VCALENDAR