BEGIN:VCALENDAR
VERSION:2.0
PRODID:-//Kellogg Arena - ECPv6.15.18//NONSGML v1.0//EN
CALSCALE:GREGORIAN
METHOD:PUBLISH
X-WR-CALNAME:Kellogg Arena
X-ORIGINAL-URL:https://kelloggarena.com
X-WR-CALDESC:Events for Kellogg Arena
REFRESH-INTERVAL;VALUE=DURATION:PT1H
X-Robots-Tag:noindex
X-PUBLISHED-TTL:PT1H
BEGIN:VTIMEZONE
TZID:America/New_York
BEGIN:DAYLIGHT
TZOFFSETFROM:-0500
TZOFFSETTO:-0400
TZNAME:EDT
DTSTART:20230312T070000
END:DAYLIGHT
BEGIN:STANDARD
TZOFFSETFROM:-0400
TZOFFSETTO:-0500
TZNAME:EST
DTSTART:20231105T060000
END:STANDARD
BEGIN:DAYLIGHT
TZOFFSETFROM:-0500
TZOFFSETTO:-0400
TZNAME:EDT
DTSTART:20240310T070000
END:DAYLIGHT
BEGIN:STANDARD
TZOFFSETFROM:-0400
TZOFFSETTO:-0500
TZNAME:EST
DTSTART:20241103T060000
END:STANDARD
BEGIN:DAYLIGHT
TZOFFSETFROM:-0500
TZOFFSETTO:-0400
TZNAME:EDT
DTSTART:20250309T070000
END:DAYLIGHT
BEGIN:STANDARD
TZOFFSETFROM:-0400
TZOFFSETTO:-0500
TZNAME:EST
DTSTART:20251102T060000
END:STANDARD
END:VTIMEZONE
BEGIN:VEVENT
DTSTART;TZID=America/New_York:20240405T120000
DTEND;TZID=America/New_York:20240407T160000
DTSTAMP:20260422T065422
CREATED:20240219T175434Z
LAST-MODIFIED:20240229T144436Z
UID:3237-1712318400-1712505600@kelloggarena.com
SUMMARY:Master Spas Expo 2024
DESCRIPTION:When: April 5th – 7th\, 2024\nFriday: 12PM – 6PM\, Saturday: 11AM – 6PM\, Sunday: 11AM – 4PM \nWhere: Kellogg Arena\n1 McCamly Square\, McCamly St S\, Battle Creek\, MI 49017 \nFree Admission \nSale Offers: $1 Million+ of Inventory \n\nRegions’ Largest Selection. Up to 50% off!\nFloor models available for instant delivery (see store for details)\n$500 to $1\,000 Off Select Spas (MSRP)\n$1\,000 to $2\,500 Off Swim Spas\n\nFinancing Options: \n\n\n\nOn-site financing on approved credit (OAC)\n\n\n\nFree Delivery & Setup: \n\nDelivery\, Setup\, and Chemicals Included\nLarge Selection\, Fast Deliveries\, and In-Stock Now!\n\nWill trash/haul away old spa/hot tub for small fee
URL:https://kelloggarena.com/event/master-spa-2024/
LOCATION:Kellogg Arena\, 1 McCamly Sqaure\, Battle Creek\, MI\, 49017\, United States
CATEGORIES:Arena Events,Conventions,Expos,Family Friendly
ATTACH;FMTTYPE=image/png:https://kelloggarena.com/wp-content/uploads/2024/02/Website-Event-Images-14.png
END:VEVENT
END:VCALENDAR