BEGIN:VCALENDAR
VERSION:2.0
PRODID:-//Kellogg Arena - ECPv6.15.18//NONSGML v1.0//EN
CALSCALE:GREGORIAN
METHOD:PUBLISH
X-ORIGINAL-URL:https://kelloggarena.com
X-WR-CALDESC:Events for Kellogg Arena
REFRESH-INTERVAL;VALUE=DURATION:PT1H
X-Robots-Tag:noindex
X-PUBLISHED-TTL:PT1H
BEGIN:VTIMEZONE
TZID:America/New_York
BEGIN:DAYLIGHT
TZOFFSETFROM:-0500
TZOFFSETTO:-0400
TZNAME:EDT
DTSTART:20210314T070000
END:DAYLIGHT
BEGIN:STANDARD
TZOFFSETFROM:-0400
TZOFFSETTO:-0500
TZNAME:EST
DTSTART:20211107T060000
END:STANDARD
BEGIN:DAYLIGHT
TZOFFSETFROM:-0500
TZOFFSETTO:-0400
TZNAME:EDT
DTSTART:20220313T070000
END:DAYLIGHT
BEGIN:STANDARD
TZOFFSETFROM:-0400
TZOFFSETTO:-0500
TZNAME:EST
DTSTART:20221106T060000
END:STANDARD
BEGIN:DAYLIGHT
TZOFFSETFROM:-0500
TZOFFSETTO:-0400
TZNAME:EDT
DTSTART:20230312T070000
END:DAYLIGHT
BEGIN:STANDARD
TZOFFSETFROM:-0400
TZOFFSETTO:-0500
TZNAME:EST
DTSTART:20231105T060000
END:STANDARD
END:VTIMEZONE
BEGIN:VEVENT
DTSTART;TZID=America/New_York:20220510T072500
DTEND;TZID=America/New_York:20220510T090000
DTSTAMP:20260423T192636
CREATED:20220308T195812Z
LAST-MODIFIED:20220409T123651Z
UID:1836-1652167500-1652173200@kelloggarena.com
SUMMARY:Battle Creek Community Prayer Breakfast
DESCRIPTION:40th Annual Community Prayer Breakfast \nHOPE FOR TOMORROW \nFeaturing: Anthony Evans \nTickets: $15 \nFor more information visit: Battle Creek Community Prayer Breakfast | Battle Creek Community Prayer Breakfast (bcprayerbreakfast.org)
URL:https://kelloggarena.com/event/battle-creek-community-prayer-breakfast-2/
LOCATION:Kellogg Arena\, 1 McCamly Sqaure\, Battle Creek\, MI\, 49017\, United States
CATEGORIES:Arena Events,Conventions,Family Friendly
ATTACH;FMTTYPE=image/jpeg:https://kelloggarena.com/wp-content/uploads/2022/03/Prayer-Breakfast.jpg
END:VEVENT
END:VCALENDAR